BEGIN:VCALENDAR
VERSION:2.0
PRODID:-//Downtown Arts District - ECPv6.15.20//NONSGML v1.0//EN
CALSCALE:GREGORIAN
METHOD:PUBLISH
X-WR-CALNAME:Downtown Arts District
X-ORIGINAL-URL:https://downtownartsdistrict.com
X-WR-CALDESC:Events for Downtown Arts District
REFRESH-INTERVAL;VALUE=DURATION:PT1H
X-Robots-Tag:noindex
X-PUBLISHED-TTL:PT1H
BEGIN:VTIMEZONE
TZID:America/New_York
BEGIN:DAYLIGHT
TZOFFSETFROM:-0500
TZOFFSETTO:-0400
TZNAME:EDT
DTSTART:20240310T070000
END:DAYLIGHT
BEGIN:STANDARD
TZOFFSETFROM:-0400
TZOFFSETTO:-0500
TZNAME:EST
DTSTART:20241103T060000
END:STANDARD
BEGIN:DAYLIGHT
TZOFFSETFROM:-0500
TZOFFSETTO:-0400
TZNAME:EDT
DTSTART:20250309T070000
END:DAYLIGHT
BEGIN:STANDARD
TZOFFSETFROM:-0400
TZOFFSETTO:-0500
TZNAME:EST
DTSTART:20251102T060000
END:STANDARD
BEGIN:DAYLIGHT
TZOFFSETFROM:-0500
TZOFFSETTO:-0400
TZNAME:EDT
DTSTART:20260308T070000
END:DAYLIGHT
BEGIN:STANDARD
TZOFFSETFROM:-0400
TZOFFSETTO:-0500
TZNAME:EST
DTSTART:20261101T060000
END:STANDARD
END:VTIMEZONE
BEGIN:VEVENT
DTSTART;TZID=America/New_York:20250306T163000
DTEND;TZID=America/New_York:20250306T183000
DTSTAMP:20260420T153130
CREATED:20250304T191637Z
LAST-MODIFIED:20250304T191637Z
UID:29067-1741278600-1741285800@downtownartsdistrict.com
SUMMARY:DTOLive! Jazz Performance: Paul Van Wormer
DESCRIPTION:DTOLive! is moving to the courtyard! \nJoin us every Thursday from 4:30–6:30 PM in the newly renovated CityArts courtyard for live jazz music and great vibes! \nStop by\, unwind\, and enjoy the music!
URL:https://downtownartsdistrict.com/event/dtolive-jazz-performance-paul-van-wormer/
LOCATION:CityArts\, 39 S. Magnolia Avenue\, Orlando\, FL\, 32801\, United States
ATTACH;FMTTYPE=image/jpeg:https://downtownartsdistrict.com/wp-content/uploads/Paul-Van-Wormer.jpeg
ORGANIZER;CN="Downtown Arts District":MAILTO:hhogan@dadorlando.com
END:VEVENT
BEGIN:VEVENT
DTSTART;TZID=America/New_York:20250308T190000
DTEND;TZID=America/New_York:20250308T220000
DTSTAMP:20260420T153130
CREATED:20250128T194546Z
LAST-MODIFIED:20250220T222141Z
UID:28924-1741460400-1741471200@downtownartsdistrict.com
SUMMARY:Art After Dark 2025
DESCRIPTION:Back by popular demand! Art After Dark is returning to the Downtown Arts District\, promising an unforgettable evening of art\, culture\, and live entertainment perfect for young professionals and the young at heart. \nBring a date\, grab your friends\, and explore CityArts’ seven stunning galleries and café\, each featuring brand-new works by talented Orlando artists. \nTickets on sale now!
URL:https://downtownartsdistrict.com/event/artafterdark2025/
LOCATION:CityArts\, 39 S. Magnolia Avenue\, Orlando\, FL\, 32801\, United States
ATTACH;FMTTYPE=image/png:https://downtownartsdistrict.com/wp-content/uploads/AAD-2025-Instagram-Banner.png
ORGANIZER;CN="Downtown Arts District":MAILTO:hhogan@dadorlando.com
END:VEVENT
BEGIN:VEVENT
DTSTART;TZID=America/New_York:20250310T230000
DTEND;TZID=America/New_York:20250310T233000
DTSTAMP:20260420T153130
CREATED:20250304T193513Z
LAST-MODIFIED:20250304T193513Z
UID:29083-1741647600-1741649400@downtownartsdistrict.com
SUMMARY:Call to Artists: H2Show Submission Due
DESCRIPTION:Our “H2Show” Call to Artists deadline is coming up! Submissions are due by Monday\, March 10th at 11:59 p.m.
URL:https://downtownartsdistrict.com/event/call-to-artists-h2show-submission-due/
LOCATION:CityArts\, 39 S. Magnolia Avenue\, Orlando\, FL\, 32801\, United States
ATTACH;FMTTYPE=image/png:https://downtownartsdistrict.com/wp-content/uploads/Submissions-are-due.png
ORGANIZER;CN="Downtown Arts District":MAILTO:hhogan@dadorlando.com
END:VEVENT
BEGIN:VEVENT
DTSTART;TZID=America/New_York:20250312T183000
DTEND;TZID=America/New_York:20250312T220000
DTSTAMP:20260420T153130
CREATED:20250304T193133Z
LAST-MODIFIED:20250304T193133Z
UID:29080-1741804200-1741816800@downtownartsdistrict.com
SUMMARY:Cinnabar Film Series: Mud
DESCRIPTION:Join us for Cinnabar Film Series at CityArts! Kick off with a screening of Mud on March 12th. We’ll share snacks and drinks at 6:45 p.m. and the film begins at 7 p.m. After the screening\, we always circle up to talk and reflect on what we’ve seen. Come meet the friends you’ve always wanted to watch movies with!
URL:https://downtownartsdistrict.com/event/cinnabar-film-series-mud/
LOCATION:CityArts\, 39 S. Magnolia Avenue\, Orlando\, FL\, 32801\, United States
ATTACH;FMTTYPE=image/jpeg:https://downtownartsdistrict.com/wp-content/uploads/thumbnail_25.03_mud_eventbrite.jpg
ORGANIZER;CN="Downtown Arts District":MAILTO:hhogan@dadorlando.com
END:VEVENT
BEGIN:VEVENT
DTSTART;TZID=America/New_York:20250313T163000
DTEND;TZID=America/New_York:20250313T183000
DTSTAMP:20260420T153130
CREATED:20250304T192009Z
LAST-MODIFIED:20250304T192009Z
UID:29070-1741883400-1741890600@downtownartsdistrict.com
SUMMARY:DTOLive! Jazz Performance: Mylon
DESCRIPTION:DTOLive! is moving to the courtyard! \nJoin us every Thursday from 4:30–6:30 PM in the newly renovated CityArts courtyard for live jazz music and great vibes! \nStop by\, unwind\, and enjoy the music!
URL:https://downtownartsdistrict.com/event/dtolive-jazz-performance-mylon/
LOCATION:CityArts\, 39 S. Magnolia Avenue\, Orlando\, FL\, 32801\, United States
ATTACH;FMTTYPE=image/jpeg:https://downtownartsdistrict.com/wp-content/uploads/Mylon.jpeg
ORGANIZER;CN="Downtown Arts District":MAILTO:hhogan@dadorlando.com
END:VEVENT
BEGIN:VEVENT
DTSTART;TZID=America/New_York:20250116T163000
DTEND;TZID=America/New_York:20250116T210000
DTSTAMP:20260420T153130
CREATED:20250109T193518Z
LAST-MODIFIED:20250304T194102Z
UID:28882-1737045000-1737061200@downtownartsdistrict.com
SUMMARY:3rd Thursday Opening Night Reception At CityArts
DESCRIPTION:Join us for 3rd Thursday at CityArts. Check out the seven new exhibitions and meet the artists! \nCityArts is a proud partner of the newly expanded 3rd Thursday Orlando: Arts. Making. History. \nThird Thursday has expanded as part of the DTOlive! ongoing program\, in partnership with United Arts of Central Florida and Downtown Development Board. \nAs part of the expansion\, Third Thursday Orlando has been extended by two hours starting earlier at 4:30 p.m.\, and Heritage Square is activated every month with free admission to the History Center until 9:00 p.m.
URL:https://downtownartsdistrict.com/event/3rd-thursday-opening-night-reception-at-cityarts/
LOCATION:CityArts\, 39 S. Magnolia Avenue\, Orlando\, FL\, 32801\, United States
ATTACH;FMTTYPE=image/jpeg:https://downtownartsdistrict.com/wp-content/uploads/3rd-Thu-Event-Cover-2.jpeg
ORGANIZER;CN="Downtown Arts District":MAILTO:hhogan@dadorlando.com
END:VEVENT
BEGIN:VEVENT
DTSTART;TZID=America/New_York:20250322T130000
DTEND;TZID=America/New_York:20250322T150000
DTSTAMP:20260420T153130
CREATED:20250304T192703Z
LAST-MODIFIED:20250304T192703Z
UID:29077-1742648400-1742655600@downtownartsdistrict.com
SUMMARY:Earth Day Art Activity
DESCRIPTION:Celebrate creativity and sustainability at CityArts on March 22 from 1–3 PM during the H2Show exhibit! In collaboration with CABETCAL\, an art nonprofit\, and art teacher Arelys Quintero\, this hands-on activity invites you to explore eco-friendly artmaking. Don’t miss this chance to get creative and celebrate our planet!
URL:https://downtownartsdistrict.com/event/earth-day-art-activity/
LOCATION:CityArts\, 39 S. Magnolia Avenue\, Orlando\, FL\, 32801\, United States
ATTACH;FMTTYPE=image/jpeg:https://downtownartsdistrict.com/wp-content/uploads/IMG_9913-scaled.jpg
ORGANIZER;CN="Downtown Arts District":MAILTO:hhogan@dadorlando.com
END:VEVENT
BEGIN:VEVENT
DTSTART;TZID=America/New_York:20250226T073000
DTEND;TZID=America/New_York:20250226T090000
DTSTAMP:20260420T153130
CREATED:20250204T173657Z
LAST-MODIFIED:20250401T192432Z
UID:28960-1740555000-1740560400@downtownartsdistrict.com
SUMMARY:Sort of Brutally Early Artist Meet-up
DESCRIPTION:Join us for our monthly “Sort of Brutally Early Artist Meet-up” It’s an artist\, art lover\, art administrator meet-up. That means everyone is invited. It is very informal. Attendees can come and go as they please. – Enjoy complimentary coffee and pastries – Meet other artists\, art lovers\, and arts administrators – Check out the CityArts exhibitions. The Sort of Brutally Early Artist Meetup was created by curator\, Pat Greene. This is a nod to renowned curator Hans Ulrich Obrist’s Brutally Early Club.
URL:https://downtownartsdistrict.com/event/sort-of-brutally-early-artist-meet-up-3/
LOCATION:CityArts\, 39 S. Magnolia Avenue\, Orlando\, FL\, 32801\, United States
ATTACH;FMTTYPE=image/jpeg:https://downtownartsdistrict.com/wp-content/uploads/380280292_290309770406851_2475014620698523568_n.jpeg
ORGANIZER;CN="Downtown Arts District":MAILTO:hhogan@dadorlando.com
END:VEVENT
BEGIN:VEVENT
DTSTART;TZID=America/New_York:20250327T163000
DTEND;TZID=America/New_York:20250327T183000
DTSTAMP:20260420T153130
CREATED:20250304T192219Z
LAST-MODIFIED:20250304T192219Z
UID:29074-1743093000-1743100200@downtownartsdistrict.com
SUMMARY:DTOLive! Jazz Performance: Joe Fritz
DESCRIPTION:DTOLive! is moving to the courtyard! \nJoin us every Thursday from 4:30–6:30 PM in the newly renovated CityArts courtyard for live jazz music and great vibes! \nStop by\, unwind\, and enjoy the music!
URL:https://downtownartsdistrict.com/event/dtolive-jazz-performance-joe-fritz/
LOCATION:CityArts\, 39 S. Magnolia Avenue\, Orlando\, FL\, 32801\, United States
ATTACH;FMTTYPE=image/jpeg:https://downtownartsdistrict.com/wp-content/uploads/Joe-Fritz.jpeg
ORGANIZER;CN="Downtown Arts District":MAILTO:hhogan@dadorlando.com
END:VEVENT
END:VCALENDAR