BEGIN:VCALENDAR
VERSION:2.0
PRODID:-//Downtown Arts District - ECPv6.15.20//NONSGML v1.0//EN
CALSCALE:GREGORIAN
METHOD:PUBLISH
X-WR-CALNAME:Downtown Arts District
X-ORIGINAL-URL:https://downtownartsdistrict.com
X-WR-CALDESC:Events for Downtown Arts District
REFRESH-INTERVAL;VALUE=DURATION:PT1H
X-Robots-Tag:noindex
X-PUBLISHED-TTL:PT1H
BEGIN:VTIMEZONE
TZID:America/New_York
BEGIN:DAYLIGHT
TZOFFSETFROM:-0500
TZOFFSETTO:-0400
TZNAME:EDT
DTSTART:20230312T070000
END:DAYLIGHT
BEGIN:STANDARD
TZOFFSETFROM:-0400
TZOFFSETTO:-0500
TZNAME:EST
DTSTART:20231105T060000
END:STANDARD
BEGIN:DAYLIGHT
TZOFFSETFROM:-0500
TZOFFSETTO:-0400
TZNAME:EDT
DTSTART:20240310T070000
END:DAYLIGHT
BEGIN:STANDARD
TZOFFSETFROM:-0400
TZOFFSETTO:-0500
TZNAME:EST
DTSTART:20241103T060000
END:STANDARD
BEGIN:DAYLIGHT
TZOFFSETFROM:-0500
TZOFFSETTO:-0400
TZNAME:EDT
DTSTART:20250309T070000
END:DAYLIGHT
BEGIN:STANDARD
TZOFFSETFROM:-0400
TZOFFSETTO:-0500
TZNAME:EST
DTSTART:20251102T060000
END:STANDARD
BEGIN:DAYLIGHT
TZOFFSETFROM:-0500
TZOFFSETTO:-0400
TZNAME:EDT
DTSTART:20260308T070000
END:DAYLIGHT
BEGIN:STANDARD
TZOFFSETFROM:-0400
TZOFFSETTO:-0500
TZNAME:EST
DTSTART:20261101T060000
END:STANDARD
END:VTIMEZONE
BEGIN:VEVENT
DTSTART;TZID=America/New_York:20241231T200000
DTEND;TZID=America/New_York:20250101T010000
DTSTAMP:20260420T173530
CREATED:20241120T192017Z
LAST-MODIFIED:20241120T192017Z
UID:28768-1735675200-1735693200@downtownartsdistrict.com
SUMMARY:Midnight on Magnolia
DESCRIPTION:Tuesday\, December 31st\, 2024 \n8:30 p.m. – 1:00 a.m. \nCityArts | 39 S. Magnolia Avenue\, Orlando FL 32801 \nGuests will enjoy the celebration in a unique setting by strolling through CityArts’ seven different galleries. The evening’s festivities include interactive art experiences\, meet & greet opportunities with special guest artists\, live music\, photo opportunities\, a silent auction\, craft cocktails\, and gourmet lite bites from local restaurants! \n$99 General Admission (Early Bird) \n\nGallery Access\nLive and Interactive Entertainment\nPassed Hors d’Oeuvres\nBubbly Toast at Midnight\nTwo drink tickets- Calls\, Beer\, Wine\, and Bubbly\n\n$134 VIP Admission (Early Bird) \n\nGallery Access\nLive and Interactive Entertainment\nPassed Hors d’Oeuvres\nBubbly Toast at Midnight\nOpen Bar – Top-Shelf Liquor\, Beer\, Wine\, and Bubbly\n\nThank you to our event sponsors: \n\nValley Bank\nOrlando Health
URL:https://downtownartsdistrict.com/event/midnight-on-magnolia/
LOCATION:CityArts\, 39 S. Magnolia Avenue\, Orlando\, FL\, 32801\, United States
ORGANIZER;CN="Downtown Arts District":MAILTO:hhogan@dadorlando.com
END:VEVENT
BEGIN:VEVENT
DTSTART;TZID=America/New_York:20250111T190000
DTEND;TZID=America/New_York:20250111T220000
DTSTAMP:20260420T173530
CREATED:20250109T185607Z
LAST-MODIFIED:20250109T191212Z
UID:28873-1736622000-1736632800@downtownartsdistrict.com
SUMMARY:Orlando Story Club 10 Year Celebration
DESCRIPTION:OSC just wrapped up an incredible ten years of storytelling and building community\, and we want to celebrate this milestone with you! \nJoin us at CityArts for an unforgettable evening connecting with storytellers who’ve graced the OSC stage over the past decade. Enjoy captivating performances\, share memories\, and toast to everything that makes our storytelling show so special—it’s going to be the party of the year! Light bites and champagne will be served\, live storytelling performances from past OSC favorites\, and a vibrant atmosphere at the heart of CityArts \nWe can’t wait to celebrate with all of you! See you there!
URL:https://downtownartsdistrict.com/event/orlando-story-club-10-year-celebration/
LOCATION:CityArts\, 39 S. Magnolia Avenue\, Orlando\, FL\, 32801\, United States
ATTACH;FMTTYPE=image/jpeg:https://downtownartsdistrict.com/wp-content/uploads/470148603_1010686794431096_6121529135355634563_n.jpg
ORGANIZER;CN="Downtown Arts District":MAILTO:hhogan@dadorlando.com
END:VEVENT
BEGIN:VEVENT
DTSTART;TZID=America/New_York:20250116T163000
DTEND;TZID=America/New_York:20250116T210000
DTSTAMP:20260420T173530
CREATED:20250109T193518Z
LAST-MODIFIED:20250304T194102Z
UID:28882-1737045000-1737061200@downtownartsdistrict.com
SUMMARY:3rd Thursday Opening Night Reception At CityArts
DESCRIPTION:Join us for 3rd Thursday at CityArts. Check out the seven new exhibitions and meet the artists! \nCityArts is a proud partner of the newly expanded 3rd Thursday Orlando: Arts. Making. History. \nThird Thursday has expanded as part of the DTOlive! ongoing program\, in partnership with United Arts of Central Florida and Downtown Development Board. \nAs part of the expansion\, Third Thursday Orlando has been extended by two hours starting earlier at 4:30 p.m.\, and Heritage Square is activated every month with free admission to the History Center until 9:00 p.m.
URL:https://downtownartsdistrict.com/event/3rd-thursday-opening-night-reception-at-cityarts/
LOCATION:CityArts\, 39 S. Magnolia Avenue\, Orlando\, FL\, 32801\, United States
ATTACH;FMTTYPE=image/jpeg:https://downtownartsdistrict.com/wp-content/uploads/3rd-Thu-Event-Cover-2.jpeg
ORGANIZER;CN="Downtown Arts District":MAILTO:hhogan@dadorlando.com
END:VEVENT
BEGIN:VEVENT
DTSTART;TZID=America/New_York:20250122T073000
DTEND;TZID=America/New_York:20250122T090000
DTSTAMP:20260420T173530
CREATED:20250109T194113Z
LAST-MODIFIED:20250109T194225Z
UID:28885-1737531000-1737536400@downtownartsdistrict.com
SUMMARY:Sort of Brutally Early Artist Meet-Up
DESCRIPTION:Join us for our monthly “Sort of Brutally Early Artist Meet-up”\n\nIt’s an artist\, art lover\, art administrator meet-up. That means everyone is invited. It is very informal. Attendees are able to come and go as they please.\n\n– Enjoy complimentary coffee and pastries\n– Meet other artists\, art lovers\, and arts administrators\n– Check out the CityArts exhibitions\n\nThe Sort of Brutally Early Artist Meetup was created by curator\, Pat Greene. This is a nod to renowned curator Hans Ulrich Obrist’s Brutally Early Club.\n\nPlease share this event with others. It is a great way to start the day! Yes. This meet-up is at 7:30 a.m. We know it is early!\nWe hope to see you on Wednesday morning!
URL:https://downtownartsdistrict.com/event/sort-of-brutally-early-artist-meet-up-2/
LOCATION:CityArts\, 39 S. Magnolia Avenue\, Orlando\, FL\, 32801\, United States
ATTACH;FMTTYPE=image/jpeg:https://downtownartsdistrict.com/wp-content/uploads/380280292_290309770406851_2475014620698523568_n.jpeg
ORGANIZER;CN="Downtown Arts District":MAILTO:hhogan@dadorlando.com
END:VEVENT
END:VCALENDAR