BEGIN:VCALENDAR
VERSION:2.0
PRODID:-//Downtown Arts District - ECPv6.15.20//NONSGML v1.0//EN
CALSCALE:GREGORIAN
METHOD:PUBLISH
X-ORIGINAL-URL:https://downtownartsdistrict.com
X-WR-CALDESC:Events for Downtown Arts District
REFRESH-INTERVAL;VALUE=DURATION:PT1H
X-Robots-Tag:noindex
X-PUBLISHED-TTL:PT1H
BEGIN:VTIMEZONE
TZID:America/New_York
BEGIN:DAYLIGHT
TZOFFSETFROM:-0500
TZOFFSETTO:-0400
TZNAME:EDT
DTSTART:20240310T070000
END:DAYLIGHT
BEGIN:STANDARD
TZOFFSETFROM:-0400
TZOFFSETTO:-0500
TZNAME:EST
DTSTART:20241103T060000
END:STANDARD
BEGIN:DAYLIGHT
TZOFFSETFROM:-0500
TZOFFSETTO:-0400
TZNAME:EDT
DTSTART:20250309T070000
END:DAYLIGHT
BEGIN:STANDARD
TZOFFSETFROM:-0400
TZOFFSETTO:-0500
TZNAME:EST
DTSTART:20251102T060000
END:STANDARD
BEGIN:DAYLIGHT
TZOFFSETFROM:-0500
TZOFFSETTO:-0400
TZNAME:EDT
DTSTART:20260308T070000
END:DAYLIGHT
BEGIN:STANDARD
TZOFFSETFROM:-0400
TZOFFSETTO:-0500
TZNAME:EST
DTSTART:20261101T060000
END:STANDARD
END:VTIMEZONE
BEGIN:VEVENT
DTSTART;TZID=America/New_York:20250226T073000
DTEND;TZID=America/New_York:20250226T090000
DTSTAMP:20260420T202410
CREATED:20250204T173657Z
LAST-MODIFIED:20250401T192432Z
UID:28960-1740555000-1740560400@downtownartsdistrict.com
SUMMARY:Sort of Brutally Early Artist Meet-up
DESCRIPTION:Join us for our monthly “Sort of Brutally Early Artist Meet-up” It’s an artist\, art lover\, art administrator meet-up. That means everyone is invited. It is very informal. Attendees can come and go as they please. – Enjoy complimentary coffee and pastries – Meet other artists\, art lovers\, and arts administrators – Check out the CityArts exhibitions. The Sort of Brutally Early Artist Meetup was created by curator\, Pat Greene. This is a nod to renowned curator Hans Ulrich Obrist’s Brutally Early Club.
URL:https://downtownartsdistrict.com/event/sort-of-brutally-early-artist-meet-up-3/
LOCATION:CityArts\, 39 S. Magnolia Avenue\, Orlando\, FL\, 32801\, United States
ATTACH;FMTTYPE=image/jpeg:https://downtownartsdistrict.com/wp-content/uploads/380280292_290309770406851_2475014620698523568_n.jpeg
ORGANIZER;CN="Downtown Arts District":MAILTO:hhogan@dadorlando.com
END:VEVENT
END:VCALENDAR