BEGIN:VCALENDAR
VERSION:2.0
PRODID:-//Downtown Arts District - ECPv6.15.20//NONSGML v1.0//EN
CALSCALE:GREGORIAN
METHOD:PUBLISH
X-WR-CALNAME:Downtown Arts District
X-ORIGINAL-URL:https://downtownartsdistrict.com
X-WR-CALDESC:Events for Downtown Arts District
REFRESH-INTERVAL;VALUE=DURATION:PT1H
X-Robots-Tag:noindex
X-PUBLISHED-TTL:PT1H
BEGIN:VTIMEZONE
TZID:America/New_York
BEGIN:DAYLIGHT
TZOFFSETFROM:-0500
TZOFFSETTO:-0400
TZNAME:EDT
DTSTART:20240310T070000
END:DAYLIGHT
BEGIN:STANDARD
TZOFFSETFROM:-0400
TZOFFSETTO:-0500
TZNAME:EST
DTSTART:20241103T060000
END:STANDARD
BEGIN:DAYLIGHT
TZOFFSETFROM:-0500
TZOFFSETTO:-0400
TZNAME:EDT
DTSTART:20250309T070000
END:DAYLIGHT
BEGIN:STANDARD
TZOFFSETFROM:-0400
TZOFFSETTO:-0500
TZNAME:EST
DTSTART:20251102T060000
END:STANDARD
BEGIN:DAYLIGHT
TZOFFSETFROM:-0500
TZOFFSETTO:-0400
TZNAME:EDT
DTSTART:20260308T070000
END:DAYLIGHT
BEGIN:STANDARD
TZOFFSETFROM:-0400
TZOFFSETTO:-0500
TZNAME:EST
DTSTART:20261101T060000
END:STANDARD
END:VTIMEZONE
BEGIN:VEVENT
DTSTART;TZID=America/New_York:20250212T190000
DTEND;TZID=America/New_York:20250212T220000
DTSTAMP:20260420T202809
CREATED:20250204T171607Z
LAST-MODIFIED:20250204T171607Z
UID:28953-1739386800-1739397600@downtownartsdistrict.com
SUMMARY:Cinnabar Film Series: Daisies
DESCRIPTION:Join us for Cinnabar’s Film Series at Cityarts! Kick off with a screening of Daisies on February 12th. The event starts at 6:45 p.m.\, with the film beginning at 7 p.m. Enjoy a fun evening with drinks\, snacks\, and great film. \nDon’t miss the next showing of Mud on March 12th!
URL:https://downtownartsdistrict.com/event/cinnabar-film-series-daisies/
LOCATION:CityArts\, 39 S. Magnolia Avenue\, Orlando\, FL\, 32801\, United States
ATTACH;FMTTYPE=image/jpeg:https://downtownartsdistrict.com/wp-content/uploads/25.02_daisies_eventbrite-scaled.jpeg
ORGANIZER;CN="Downtown Arts District":MAILTO:hhogan@dadorlando.com
END:VEVENT
END:VCALENDAR