BEGIN:VCALENDAR
VERSION:2.0
PRODID:-//Downtown Arts District - ECPv6.15.20//NONSGML v1.0//EN
CALSCALE:GREGORIAN
METHOD:PUBLISH
X-ORIGINAL-URL:https://downtownartsdistrict.com
X-WR-CALDESC:Events for Downtown Arts District
REFRESH-INTERVAL;VALUE=DURATION:PT1H
X-Robots-Tag:noindex
X-PUBLISHED-TTL:PT1H
BEGIN:VTIMEZONE
TZID:America/New_York
BEGIN:DAYLIGHT
TZOFFSETFROM:-0500
TZOFFSETTO:-0400
TZNAME:EDT
DTSTART:20230312T070000
END:DAYLIGHT
BEGIN:STANDARD
TZOFFSETFROM:-0400
TZOFFSETTO:-0500
TZNAME:EST
DTSTART:20231105T060000
END:STANDARD
BEGIN:DAYLIGHT
TZOFFSETFROM:-0500
TZOFFSETTO:-0400
TZNAME:EDT
DTSTART:20240310T070000
END:DAYLIGHT
BEGIN:STANDARD
TZOFFSETFROM:-0400
TZOFFSETTO:-0500
TZNAME:EST
DTSTART:20241103T060000
END:STANDARD
BEGIN:DAYLIGHT
TZOFFSETFROM:-0500
TZOFFSETTO:-0400
TZNAME:EDT
DTSTART:20250309T070000
END:DAYLIGHT
BEGIN:STANDARD
TZOFFSETFROM:-0400
TZOFFSETTO:-0500
TZNAME:EST
DTSTART:20251102T060000
END:STANDARD
END:VTIMEZONE
BEGIN:VEVENT
DTSTART;TZID=America/New_York:20240919T163000
DTEND;TZID=America/New_York:20240919T210000
DTSTAMP:20260420T195402
CREATED:20240806T170437Z
LAST-MODIFIED:20240806T170849Z
UID:28395-1726763400-1726779600@downtownartsdistrict.com
SUMMARY:Mural Festival
DESCRIPTION:Downtown Arts District and CityArts are holding a two-day mural festival on September 19 and 20. \nOn September 19 at our monthly 3rd Thursday event. We will have different muralists painting 8 x 8 walls on Magnolia Ave. This is a chance for the artists to paint live in front of peers in the community. \nOn Friday evening the event will culminate with a muralist team challenge. This event will have judges\, multiple DJs\, bars\, and food trucks. The audience will have the deciding vote for the team winner\, so invite all your friends and family to come out and cheer for your team. \nMuralist application available in the call to artist page.
URL:https://downtownartsdistrict.com/event/mural-festival/
LOCATION:CityArts\, 39 S. Magnolia Avenue\, Orlando\, FL\, 32801\, United States
ORGANIZER;CN="Downtown Arts District":MAILTO:hhogan@dadorlando.com
END:VEVENT
END:VCALENDAR