BEGIN:VCALENDAR
VERSION:2.0
PRODID:-//Downtown Arts District - ECPv6.15.20//NONSGML v1.0//EN
CALSCALE:GREGORIAN
METHOD:PUBLISH
X-ORIGINAL-URL:https://downtownartsdistrict.com
X-WR-CALDESC:Events for Downtown Arts District
REFRESH-INTERVAL;VALUE=DURATION:PT1H
X-Robots-Tag:noindex
X-PUBLISHED-TTL:PT1H
BEGIN:VTIMEZONE
TZID:America/New_York
BEGIN:DAYLIGHT
TZOFFSETFROM:-0500
TZOFFSETTO:-0400
TZNAME:EDT
DTSTART:20230312T070000
END:DAYLIGHT
BEGIN:STANDARD
TZOFFSETFROM:-0400
TZOFFSETTO:-0500
TZNAME:EST
DTSTART:20231105T060000
END:STANDARD
BEGIN:DAYLIGHT
TZOFFSETFROM:-0500
TZOFFSETTO:-0400
TZNAME:EDT
DTSTART:20240310T070000
END:DAYLIGHT
BEGIN:STANDARD
TZOFFSETFROM:-0400
TZOFFSETTO:-0500
TZNAME:EST
DTSTART:20241103T060000
END:STANDARD
BEGIN:DAYLIGHT
TZOFFSETFROM:-0500
TZOFFSETTO:-0400
TZNAME:EDT
DTSTART:20250309T070000
END:DAYLIGHT
BEGIN:STANDARD
TZOFFSETFROM:-0400
TZOFFSETTO:-0500
TZNAME:EST
DTSTART:20251102T060000
END:STANDARD
END:VTIMEZONE
BEGIN:VEVENT
DTSTART;TZID=America/New_York:20240410T190000
DTEND;TZID=America/New_York:20240410T213000
DTSTAMP:20260419T232913
CREATED:20240216T191741Z
LAST-MODIFIED:20240216T194044Z
UID:28030-1712775600-1712784600@downtownartsdistrict.com
SUMMARY:Orlando Story Club: Foreign Land
DESCRIPTION:Join us for Orlando Story Club!\n\nOrlando Story Club is a live storytelling competition that takes place at CityArts Orlando (39 S Magnolia Ave). All regular shows begin at 7:00 p.m. $5 donation to CityArts to attend. \nEvery Orlando Story Club event has a theme. Anyone with a story that fits with that theme can enter by putting their name in the story hat. Ten names are drawn at random. Each storyteller is given 5 minutes to impress the audience\, and the top 3 tellers take home prizes. \nIt’s a night of laughter\, fun\, and connection! Join us for our not-so-serious storytelling competition! Come laugh\, listen\, drink\, and help build our community! If you aren’t interested in telling a story\, we love story listeners! \n\n\nThis month’s theme is Foreign Land!\n\nGet your tickets here
URL:https://downtownartsdistrict.com/event/orlando-story-club-foreign-land/
LOCATION:FL
CATEGORIES:Literary,Theater
ATTACH;FMTTYPE=image/png:https://downtownartsdistrict.com/wp-content/uploads/OSC-FB-Event-Cover-Photos-2024-2.png
ORGANIZER;CN="Downtown Arts District":MAILTO:hhogan@dadorlando.com
END:VEVENT
END:VCALENDAR